BEGIN:VCALENDAR
VERSION:2.0
PRODID:-//Robbert Muuse - ECPv6.15.20//NONSGML v1.0//EN
CALSCALE:GREGORIAN
METHOD:PUBLISH
X-WR-CALNAME:Robbert Muuse
X-ORIGINAL-URL:https://robbertmuuse.com
X-WR-CALDESC:Events for Robbert Muuse
REFRESH-INTERVAL;VALUE=DURATION:PT1H
X-Robots-Tag:noindex
X-PUBLISHED-TTL:PT1H
BEGIN:VTIMEZONE
TZID:Europe/Amsterdam
BEGIN:DAYLIGHT
TZOFFSETFROM:+0100
TZOFFSETTO:+0200
TZNAME:CEST
DTSTART:20210328T010000
END:DAYLIGHT
BEGIN:STANDARD
TZOFFSETFROM:+0200
TZOFFSETTO:+0100
TZNAME:CET
DTSTART:20211031T010000
END:STANDARD
BEGIN:DAYLIGHT
TZOFFSETFROM:+0100
TZOFFSETTO:+0200
TZNAME:CEST
DTSTART:20220327T010000
END:DAYLIGHT
BEGIN:STANDARD
TZOFFSETFROM:+0200
TZOFFSETTO:+0100
TZNAME:CET
DTSTART:20221030T010000
END:STANDARD
BEGIN:DAYLIGHT
TZOFFSETFROM:+0100
TZOFFSETTO:+0200
TZNAME:CEST
DTSTART:20230326T010000
END:DAYLIGHT
BEGIN:STANDARD
TZOFFSETFROM:+0200
TZOFFSETTO:+0100
TZNAME:CET
DTSTART:20231029T010000
END:STANDARD
END:VTIMEZONE
BEGIN:VEVENT
DTSTART;TZID=Europe/Amsterdam:20220108T200000
DTEND;TZID=Europe/Amsterdam:20220108T220000
DTSTAMP:20260420T011418
CREATED:20220111T133743Z
LAST-MODIFIED:20220111T143145Z
UID:672-1641672000-1641679200@robbertmuuse.com
SUMMARY:Metz (F) | Heinrich Schütz Triptyque - Akadêmia
DESCRIPTION:Performed by \n\ndirection musicale Françoise Lasserre\nténor Jan Van Elsacker (Évangéliste)\nbaryton Robbert Muuse (Jésus)\nensemble vocal et instrumental ensemble Akadêmia\n \nInfo:www.citemusicale-metz.fr \n\n\n\n\n\n\n			\n			\n				\n				\n				\n				\n				\n				\n				\n				\n				\n				Programme\n\n\nHeinrich Schütz \n\nHistoire de la Nativité\nLes sept paroles du Christ en croix\nHistoire de la Résurrection\n\n\n\n\nHeinrich Schütz voit le jour précisément un siècle avant Bach. Puisant à toutes les sources de ce qui allait être appelé plus tard le baroque\, il ouvre les voies de la musique allemande : les Passions\, les oratorios\, les cantates\, l’opéra même – qu’il découvre à Venise. Luthérienne par son esprit\, profondément latine par son élan\, l’œuvre de l’« Orphée de Dresde » est toute de soleil et d’ombre mêlés. Françoise Lasserre\, fidèle interprète de Schütz\, réunit trois œuvres qui l’accompagnent depuis longtemps : de la naissance à la résurrection du Christ\, en passant par sa Passion\, c’est l’humanité fervente et l’espoir qui anime toute son œuvre qui se donne à entendre.
URL:https://robbertmuuse.com/agenda/metz-f-heinrich-schutz-triptyque-akademia/
END:VEVENT
END:VCALENDAR