BEGIN:VCALENDAR
VERSION:2.0
PRODID:-//Robbert Muuse - ECPv6.15.20//NONSGML v1.0//EN
CALSCALE:GREGORIAN
METHOD:PUBLISH
X-ORIGINAL-URL:https://robbertmuuse.com
X-WR-CALDESC:Events for Robbert Muuse
REFRESH-INTERVAL;VALUE=DURATION:PT1H
X-Robots-Tag:noindex
X-PUBLISHED-TTL:PT1H
BEGIN:VTIMEZONE
TZID:Europe/Amsterdam
BEGIN:DAYLIGHT
TZOFFSETFROM:+0100
TZOFFSETTO:+0200
TZNAME:CEST
DTSTART:20230326T010000
END:DAYLIGHT
BEGIN:STANDARD
TZOFFSETFROM:+0200
TZOFFSETTO:+0100
TZNAME:CET
DTSTART:20231029T010000
END:STANDARD
BEGIN:DAYLIGHT
TZOFFSETFROM:+0100
TZOFFSETTO:+0200
TZNAME:CEST
DTSTART:20240331T010000
END:DAYLIGHT
BEGIN:STANDARD
TZOFFSETFROM:+0200
TZOFFSETTO:+0100
TZNAME:CET
DTSTART:20241027T010000
END:STANDARD
BEGIN:DAYLIGHT
TZOFFSETFROM:+0100
TZOFFSETTO:+0200
TZNAME:CEST
DTSTART:20250330T010000
END:DAYLIGHT
BEGIN:STANDARD
TZOFFSETFROM:+0200
TZOFFSETTO:+0100
TZNAME:CET
DTSTART:20251026T010000
END:STANDARD
END:VTIMEZONE
BEGIN:VEVENT
DTSTART;TZID=Europe/Amsterdam:20240405T201500
DTEND;TZID=Europe/Amsterdam:20240405T214500
DTSTAMP:20260423T120553
CREATED:20240117T194115Z
LAST-MODIFIED:20250902T105318Z
UID:1952-1712348100-1712353500@robbertmuuse.com
SUMMARY:Wageningen - Liedrecital: Winterreise - Schubert
DESCRIPTION:Uitvoerenden: \n\nRobbert Muuse – bariton\nMicha van Weers – piano\n\n\nLocatie:Het Depot\, Wageningen Adres: Arboretumlaan 4\, 6703 BD Wageningen \nOrganisator: Het Depot\, Wageningen  \nInfo: https://www.hetdepot.nl/  \n\n			\n			\n				\n				\n				\n				\n				\n				\n				\n				\n				\n				Programma: \nWinterreise\nFranz Schubert\nLiedcyclus op gedichten van Wilhelm Müller\n			\n				\n				\n				\n				\n				Winterreise – Programma details\n			\n				\n				\n				\n				\n				Tickets:\nToegang: (info volgt)
URL:https://robbertmuuse.com/agenda/240405wr/
END:VEVENT
END:VCALENDAR