BEGIN:VCALENDAR
VERSION:2.0
PRODID:-//Robbert Muuse - ECPv6.15.20//NONSGML v1.0//EN
CALSCALE:GREGORIAN
METHOD:PUBLISH
X-WR-CALNAME:Robbert Muuse
X-ORIGINAL-URL:https://robbertmuuse.com
X-WR-CALDESC:Events for Robbert Muuse
REFRESH-INTERVAL;VALUE=DURATION:PT1H
X-Robots-Tag:noindex
X-PUBLISHED-TTL:PT1H
BEGIN:VTIMEZONE
TZID:Europe/Amsterdam
BEGIN:DAYLIGHT
TZOFFSETFROM:+0100
TZOFFSETTO:+0200
TZNAME:CEST
DTSTART:20230326T010000
END:DAYLIGHT
BEGIN:STANDARD
TZOFFSETFROM:+0200
TZOFFSETTO:+0100
TZNAME:CET
DTSTART:20231029T010000
END:STANDARD
BEGIN:DAYLIGHT
TZOFFSETFROM:+0100
TZOFFSETTO:+0200
TZNAME:CEST
DTSTART:20240331T010000
END:DAYLIGHT
BEGIN:STANDARD
TZOFFSETFROM:+0200
TZOFFSETTO:+0100
TZNAME:CET
DTSTART:20241027T010000
END:STANDARD
BEGIN:DAYLIGHT
TZOFFSETFROM:+0100
TZOFFSETTO:+0200
TZNAME:CEST
DTSTART:20250330T010000
END:DAYLIGHT
BEGIN:STANDARD
TZOFFSETFROM:+0200
TZOFFSETTO:+0100
TZNAME:CET
DTSTART:20251026T010000
END:STANDARD
END:VTIMEZONE
BEGIN:VEVENT
DTSTART;TZID=Europe/Amsterdam:20240602T150000
DTEND;TZID=Europe/Amsterdam:20240602T173000
DTSTAMP:20260423T150024
CREATED:20240510T113738Z
LAST-MODIFIED:20240510T113845Z
UID:1990-1717340400-1717349400@robbertmuuse.com
SUMMARY:Wijk bij Duurstede | Bloei! Een lenteconcert
DESCRIPTION:Locatie:Steenfabriek BosscherwaardenLekdijk West 28\, Wijk bij Duurstede  \nInfo: https://www.wijksvocaal.nlAanvang: 15.00 uur Expositie open: 14.00 uurEntree: € 17\,50 | € 10 (tot 25 jr) | € 20 (ter plaatse)Bij de entreeprijs zijn programmaboekje en een pauzeconsumptie inbegrepen. \n\n			\n			\n				\n				\n				\n				\n				\n				\n				\n				\n				\n				Programma: \n\nMadrigal | Les Djinns | Pavane – Gabriël Fauré\nFive Hebrew Love Songs – Eric Whitacre\nFive Mystical Songs – Ralph Vaughan Williams (Robbert Muuse\, solist)\nMusic’s Praise – Michael Hurd\nFrom the Bavarian Highlands – Edward Elgar\nLiederen van Fauré\, Vaughan Williams en Quilter door Robbert Muuse\n\n			\n				\n				\n				\n				\n				Uitvoerenden:  \n\nWijks Vocaal – kamerkoor\nRobbert Muuse – bariton\nRob Nederlof – piano\nMarieke Donker Kaat – viool\n\nMuzikale leiding: Bernhard Touwen
URL:https://robbertmuuse.com/agenda/240602/
END:VEVENT
END:VCALENDAR