BEGIN:VCALENDAR
VERSION:2.0
PRODID:-//Robbert Muuse - ECPv6.15.20//NONSGML v1.0//EN
CALSCALE:GREGORIAN
METHOD:PUBLISH
X-WR-CALNAME:Robbert Muuse
X-ORIGINAL-URL:https://robbertmuuse.com
X-WR-CALDESC:Events for Robbert Muuse
REFRESH-INTERVAL;VALUE=DURATION:PT1H
X-Robots-Tag:noindex
X-PUBLISHED-TTL:PT1H
BEGIN:VTIMEZONE
TZID:Europe/Amsterdam
BEGIN:DAYLIGHT
TZOFFSETFROM:+0100
TZOFFSETTO:+0200
TZNAME:CEST
DTSTART:20240331T010000
END:DAYLIGHT
BEGIN:STANDARD
TZOFFSETFROM:+0200
TZOFFSETTO:+0100
TZNAME:CET
DTSTART:20241027T010000
END:STANDARD
BEGIN:DAYLIGHT
TZOFFSETFROM:+0100
TZOFFSETTO:+0200
TZNAME:CEST
DTSTART:20250330T010000
END:DAYLIGHT
BEGIN:STANDARD
TZOFFSETFROM:+0200
TZOFFSETTO:+0100
TZNAME:CET
DTSTART:20251026T010000
END:STANDARD
BEGIN:DAYLIGHT
TZOFFSETFROM:+0100
TZOFFSETTO:+0200
TZNAME:CEST
DTSTART:20260329T010000
END:DAYLIGHT
BEGIN:STANDARD
TZOFFSETFROM:+0200
TZOFFSETTO:+0100
TZNAME:CET
DTSTART:20261025T010000
END:STANDARD
END:VTIMEZONE
BEGIN:VEVENT
DTSTART;TZID=Europe/Amsterdam:20250509T200000
DTEND;TZID=Europe/Amsterdam:20250509T220000
DTSTAMP:20260424T040736
CREATED:20250509T180032Z
LAST-MODIFIED:20260325T115920Z
UID:2191-1746820800-1746828000@robbertmuuse.com
SUMMARY:Zutphen | Liedrecital Verschwiegene Lieder
DESCRIPTION:Uitvoerenden:\n\nRobbert Muuse – bariton\nMicha van Weers – piano\n\n\nLocatie:Zaadmarkt 87\, 7201 DC Zutphen \nOrganisator:Vereniging Vrienden van het Lied \nInformatie en reservering:vvhl.nl \n\n			\n			\n				\n				\n				\n				\n				\n				\n				\n				\n				\n				Programma: \n\n\nVerschwiegene Lieder\n\n\n\n\nMuziek van vervolgde componisten uit de holocaust. Recensie: https://vvhl.nl/ongelooflijk-mooi-en-ontroerend/  \n\n\nLiederen van de componisten:Hans Gál\, Viktor Ullmann\, Jan van Gilse\, Pavel Haas\, James Simon\, Hanns Eisler\, Hans Krása \n\n\n\n			\n				\n				\n				\n				\n				Verschwiegene Lieder – Programma details
URL:https://robbertmuuse.com/agenda/250509/
END:VEVENT
END:VCALENDAR