BEGIN:VCALENDAR
VERSION:2.0
PRODID:-//Robbert Muuse - ECPv6.15.20//NONSGML v1.0//EN
CALSCALE:GREGORIAN
METHOD:PUBLISH
X-ORIGINAL-URL:https://robbertmuuse.com
X-WR-CALDESC:Events for Robbert Muuse
REFRESH-INTERVAL;VALUE=DURATION:PT1H
X-Robots-Tag:noindex
X-PUBLISHED-TTL:PT1H
BEGIN:VTIMEZONE
TZID:Europe/Amsterdam
BEGIN:DAYLIGHT
TZOFFSETFROM:+0100
TZOFFSETTO:+0200
TZNAME:CEST
DTSTART:20240331T010000
END:DAYLIGHT
BEGIN:STANDARD
TZOFFSETFROM:+0200
TZOFFSETTO:+0100
TZNAME:CET
DTSTART:20241027T010000
END:STANDARD
BEGIN:DAYLIGHT
TZOFFSETFROM:+0100
TZOFFSETTO:+0200
TZNAME:CEST
DTSTART:20250330T010000
END:DAYLIGHT
BEGIN:STANDARD
TZOFFSETFROM:+0200
TZOFFSETTO:+0100
TZNAME:CET
DTSTART:20251026T010000
END:STANDARD
BEGIN:DAYLIGHT
TZOFFSETFROM:+0100
TZOFFSETTO:+0200
TZNAME:CEST
DTSTART:20260329T010000
END:DAYLIGHT
BEGIN:STANDARD
TZOFFSETFROM:+0200
TZOFFSETTO:+0100
TZNAME:CET
DTSTART:20261025T010000
END:STANDARD
END:VTIMEZONE
BEGIN:VEVENT
DTSTART;TZID=Europe/Amsterdam:20250809T210000
DTEND;TZID=Europe/Amsterdam:20250809T224500
DTSTAMP:20260424T074119
CREATED:20250615T174723Z
LAST-MODIFIED:20250615T175155Z
UID:2247-1754773200-1754779500@robbertmuuse.com
SUMMARY:Pontaumur (Fr.) | Festival Bach en Combrailles\, Ensemble Akadêmia
DESCRIPTION:Uitvoerenden:Alice Foccroulle – SopranoMélodie Ruvio – AltoJan van Elsacker – TenorRobbert Muuse – Bass \nEnsemble Akadêmia Françoise Lasserre – directionThierry Gibault – spreker \nLocatie:Église Saint-Michel de PontaumurRue Jean Bertrand\, 63380 Pontaumur\, Frankrijk (dep. Puy-de-Dôme – region Auvergne-Rhône-Alpes) \n\nInfo: Festival Bach en Combrailles 2025  \n  \nDate: Samedi 9 août 21h00  \n \n\n			\n			\n				\n				\n				\n				\n				\n				\n				\n				\n				\n				Slotconcert / Concert de clôtureFestival Bach en Combrailles 2025 \nAan de voet van het orgel van Pontaumur vindt een gedurfde en diepgaande ontmoeting plaats tussen twee kruiswegstaties: de literaire van Jean-Pierre Siméon en de muzikale van Schütz en Bach\, subtiel samengevoegd door Françoise Lasserre. / Au pied de l’orgue de Pontaumur\, une rencontre audacieuse et profonde entre deux chemins de croix\, celui – littéraire – de Jean-Pierre Siméon et celui – musical – de Schütz et de Bach réunis avec subtilité par Françoise Lasserre.  \nProgramma: Vertelling: Chemin de croix médité – Jean-Pierre Siméon; Muziek: vocale en instrumentale werken van Heinrich Schütz en Johann Sebastian Bach.  \nJean-Pierre Siméon (b. 1950)\, winnaar van de Prix Max Jacob en de Prix Guillaume Apollinaire\, is een van de belangrijkste stemmen in de hedendaagse Franse poëzie. Met Le Chemin de croix (De kruisweg)\, gebaseerd op het evangelie van Matteüs\, heeft hij een meditatie gecreëerd over het lijden en de dood van Christus die tegelijkertijd het lijdensverhaal verankert in onze huidige tijd en de universele relevantie ervan onderzoekt. Françoise Lasserre plaatst deze teksten nu in relatie tot werken van Schütz en J.S. Bach\, die ook spreken over het verdriet\, het lijden en het vertrouwen van het lijdensverhaal. Siméons lyrische taal en een instrumentaal ensemble dat met zijn kleurrijke klank de rijke kunst van de vroege barok in Midden-Duitsland tot leven brengt\, beloven een unieke muzikale ervaring van spirituele kracht.  \n 
URL:https://robbertmuuse.com/agenda/pontaumur-fr-ensemble-akademia/
END:VEVENT
END:VCALENDAR