BEGIN:VCALENDAR
VERSION:2.0
PRODID:-//Robbert Muuse - ECPv6.15.20//NONSGML v1.0//EN
CALSCALE:GREGORIAN
METHOD:PUBLISH
X-WR-CALNAME:Robbert Muuse
X-ORIGINAL-URL:https://robbertmuuse.com
X-WR-CALDESC:Events for Robbert Muuse
REFRESH-INTERVAL;VALUE=DURATION:PT1H
X-Robots-Tag:noindex
X-PUBLISHED-TTL:PT1H
BEGIN:VTIMEZONE
TZID:Europe/Amsterdam
BEGIN:DAYLIGHT
TZOFFSETFROM:+0100
TZOFFSETTO:+0200
TZNAME:CEST
DTSTART:20240331T010000
END:DAYLIGHT
BEGIN:STANDARD
TZOFFSETFROM:+0200
TZOFFSETTO:+0100
TZNAME:CET
DTSTART:20241027T010000
END:STANDARD
BEGIN:DAYLIGHT
TZOFFSETFROM:+0100
TZOFFSETTO:+0200
TZNAME:CEST
DTSTART:20250330T010000
END:DAYLIGHT
BEGIN:STANDARD
TZOFFSETFROM:+0200
TZOFFSETTO:+0100
TZNAME:CET
DTSTART:20251026T010000
END:STANDARD
BEGIN:DAYLIGHT
TZOFFSETFROM:+0100
TZOFFSETTO:+0200
TZNAME:CEST
DTSTART:20260329T010000
END:DAYLIGHT
BEGIN:STANDARD
TZOFFSETFROM:+0200
TZOFFSETTO:+0100
TZNAME:CET
DTSTART:20261025T010000
END:STANDARD
END:VTIMEZONE
BEGIN:VEVENT
DTSTART;TZID=Europe/Amsterdam:20251101T200000
DTEND;TZID=Europe/Amsterdam:20251101T220000
DTSTAMP:20260424T112508
CREATED:20250119T214530Z
LAST-MODIFIED:20250119T214534Z
UID:2116-1762027200-1762034400@robbertmuuse.com
SUMMARY:Lelystad | Ein deutsches Requiem - J. Brahms
DESCRIPTION:Uitvoerenden: \n\nElizabeth Poz – sopraan \nRobbert Muuse – bariton \npianoduo en pauken\nCOV “Stella Maris” Lelystad\nIlia Belianko – dirigent\n\n\nLocatie:De Lichtbron\, Pauwenburg 170\, Lelystad \nInfo: https://stella-maris.nl \n\n			\n			\n				\n				\n				\n				\n				\n				\n				\n				\n				\n				Programma: \nJohannes BrahmsEin deutsches Requiem\, op. 45\nEin deutsches Requiem\, nach Worten der heiligen Schrift\, op. 45\, is een groot werk voor koor\, solisten en symfonieorkest – eventueel met orgel – gecomponeerd door de Duitse componist Johannes Brahms tussen 1865 en 1868. Het is geestelijke muziek\, maar zonder liturgische teksten. Het bestaat uit zeven delen en duurt ongeveer 70 tot 80 minuten\, waarmee het het langste werk is van Brahms.
URL:https://robbertmuuse.com/agenda/251101/
END:VEVENT
BEGIN:VEVENT
DTSTART;TZID=Europe/Amsterdam:20251109T140000
DTEND;TZID=Europe/Amsterdam:20251109T160000
DTSTAMP:20260424T112508
CREATED:20250923T192901Z
LAST-MODIFIED:20260325T120041Z
UID:2327-1762696800-1762704000@robbertmuuse.com
SUMMARY:Waalre | liedrecital – Verschwiegene Lieder
DESCRIPTION:Uitvoerenden:  \n\nRobbert Muuse – bariton\nMicha van Weers – piano\n\n\nAanvang: 9 november 2025\, 14.00 uur  \nLocatie: Azalealaan 4\, 5582 ED Waalre  \nOrganisator:Vereniging Vrienden van het Lied  \nInformatie en reservering:vvhl.nl Aanmelden bij contactpersoon Marleen Abbringh per mail: eindhoven@vvhl.nl \n\n\n\n\n\n\n			\n			\n				\n				\n				\n				\n				\n				\n				\n				\n				\n				Programma: \n\n\nVerschwiegene Lieder\n\n\n\n\nMuziek van vervolgde componisten uit de holocaust. Recensie: https://vvhl.nl/ongelooflijk-mooi-en-ontroerend/  \n\n\nLiederen van de componisten:Hans Gál\, Viktor Ullmann\, Jan van Gilse\, Pavel Haas\, James Simon\, Hanns Eisler\, Hans Krása \n\n\n\n			\n				\n				\n				\n				\n				Verschwiegene Lieder – Programma details
URL:https://robbertmuuse.com/agenda/251109vl/
END:VEVENT
END:VCALENDAR